BEGIN:VCALENDAR
VERSION:2.0
PRODID:-//Hollerhaus Irschenhausen - ECPv6.15.17.1//NONSGML v1.0//EN
CALSCALE:GREGORIAN
METHOD:PUBLISH
X-WR-CALNAME:Hollerhaus Irschenhausen
X-ORIGINAL-URL:https://hollerhaus-irschenhausen.de
X-WR-CALDESC:Veranstaltungen für Hollerhaus Irschenhausen
REFRESH-INTERVAL;VALUE=DURATION:PT1H
X-Robots-Tag:noindex
X-PUBLISHED-TTL:PT1H
BEGIN:VTIMEZONE
TZID:Europe/Berlin
BEGIN:DAYLIGHT
TZOFFSETFROM:+0100
TZOFFSETTO:+0200
TZNAME:CEST
DTSTART:20240331T010000
END:DAYLIGHT
BEGIN:STANDARD
TZOFFSETFROM:+0200
TZOFFSETTO:+0100
TZNAME:CET
DTSTART:20241027T010000
END:STANDARD
BEGIN:DAYLIGHT
TZOFFSETFROM:+0100
TZOFFSETTO:+0200
TZNAME:CEST
DTSTART:20250330T010000
END:DAYLIGHT
BEGIN:STANDARD
TZOFFSETFROM:+0200
TZOFFSETTO:+0100
TZNAME:CET
DTSTART:20251026T010000
END:STANDARD
BEGIN:DAYLIGHT
TZOFFSETFROM:+0100
TZOFFSETTO:+0200
TZNAME:CEST
DTSTART:20260329T010000
END:DAYLIGHT
BEGIN:STANDARD
TZOFFSETFROM:+0200
TZOFFSETTO:+0100
TZNAME:CET
DTSTART:20261025T010000
END:STANDARD
END:VTIMEZONE
BEGIN:VEVENT
DTSTART;TZID=Europe/Berlin:20250125T190000
DTEND;TZID=Europe/Berlin:20250125T190000
DTSTAMP:20260424T174200
CREATED:20250118T130620Z
LAST-MODIFIED:20250118T130710Z
UID:385-1737831600-1737831600@hollerhaus-irschenhausen.de
SUMMARY:Lesung mit Patricia Riekel
DESCRIPTION:HOLLERHAUS \nHerzliche Einladung zur \nLesung mit Patricia Riekel  \naus Ihrem Buch: \n„Wer bin ich\, wenn ich nichts mehr bin“ \nam Samstag\, 25.1.2025 um 19 Uhr \n \nPatricia Riekel\, Journalistin und Autorin\, war langjährige Chefredakteurin des BUNTE– Magazins. Klug\, humorvoll und mit einer Prise Selbstironie schildert sie in ihrem Buch\, die Herausforderungen und Freuden\, die der Ruhestand für sie bereithält und warum der Ruhestand der Beginn einer aufregenden\, neuen Lebensphase sein kann. \n  \nEine Veranstaltung mit der FDP München Land\, FDP- Bad Tölz-Wolfratshausen sowie den Liberalen Senioren Bayerns. \nVoranmeldung erbeten unter info@hollerhaus-irschenhausen.de
URL:https://hollerhaus-irschenhausen.de/event/lesung-mit-patricia-riekel/
CATEGORIES:Lesung
ATTACH;FMTTYPE=image/jpeg:https://hollerhaus-irschenhausen.de/wp-content/uploads/2025/01/91dwQwwRDbL._SL1500_.jpg
END:VEVENT
END:VCALENDAR