BEGIN:VCALENDAR
VERSION:2.0
PRODID:-//Hollerhaus Irschenhausen - ECPv6.15.17.1//NONSGML v1.0//EN
CALSCALE:GREGORIAN
METHOD:PUBLISH
X-WR-CALNAME:Hollerhaus Irschenhausen
X-ORIGINAL-URL:https://hollerhaus-irschenhausen.de
X-WR-CALDESC:Veranstaltungen für Hollerhaus Irschenhausen
REFRESH-INTERVAL;VALUE=DURATION:PT1H
X-Robots-Tag:noindex
X-PUBLISHED-TTL:PT1H
BEGIN:VTIMEZONE
TZID:Europe/Berlin
BEGIN:DAYLIGHT
TZOFFSETFROM:+0100
TZOFFSETTO:+0200
TZNAME:CEST
DTSTART:20240331T010000
END:DAYLIGHT
BEGIN:STANDARD
TZOFFSETFROM:+0200
TZOFFSETTO:+0100
TZNAME:CET
DTSTART:20241027T010000
END:STANDARD
BEGIN:DAYLIGHT
TZOFFSETFROM:+0100
TZOFFSETTO:+0200
TZNAME:CEST
DTSTART:20250330T010000
END:DAYLIGHT
BEGIN:STANDARD
TZOFFSETFROM:+0200
TZOFFSETTO:+0100
TZNAME:CET
DTSTART:20251026T010000
END:STANDARD
BEGIN:DAYLIGHT
TZOFFSETFROM:+0100
TZOFFSETTO:+0200
TZNAME:CEST
DTSTART:20260329T010000
END:DAYLIGHT
BEGIN:STANDARD
TZOFFSETFROM:+0200
TZOFFSETTO:+0100
TZNAME:CET
DTSTART:20261025T010000
END:STANDARD
END:VTIMEZONE
BEGIN:VEVENT
DTSTART;TZID=Europe/Berlin:20250215T170000
DTEND;TZID=Europe/Berlin:20250302T170000
DTSTAMP:20260424T154048
CREATED:20250111T201956Z
LAST-MODIFIED:20250215T113359Z
UID:382-1739638800-1740934800@hollerhaus-irschenhausen.de
SUMMARY:Collagen & Objekte - Christiane Leimklef
DESCRIPTION:HOLLERHAUS \nCOLLAGEN & OBJEKTE \nCHRISTIANE LEIMKLEF \nVernissage: Samstag\, 15.2.2025 um 17 Uhr \nAusstellung: 15.2. – 2.3.2025 \nÖffnungszeiten: Sa. und So. 14-18 Uhr
URL:https://hollerhaus-irschenhausen.de/event/collagen-objekte-christiane-leimklef/
CATEGORIES:Ausstellung,Vernissage
ATTACH;FMTTYPE=image/png:https://hollerhaus-irschenhausen.de/wp-content/uploads/2025/01/Leimklef-Plakat-Hollerhaus-2025-e1736626862332.png
END:VEVENT
BEGIN:VEVENT
DTSTART;TZID=Europe/Berlin:20250221T200000
DTEND;TZID=Europe/Berlin:20250221T200000
DTSTAMP:20260424T154048
CREATED:20250215T113150Z
LAST-MODIFIED:20250215T113203Z
UID:390-1740168000-1740168000@hollerhaus-irschenhausen.de
SUMMARY:Lesung: Radka mit Johano Strasser am 21.2. um 20 Uhr
DESCRIPTION:HOLLERHAUS \nIm Rahmen der Ausstellung „Collagen und Objekte“ der Künstlerin Christiane Leimklef \npräsentiert das Hollerhaus den großen Roman \nRadka \nvon und mit Johano Strasser \nam Freitag\, den 21. Februar um 20Uhr \nNach der großartigen Präsentation von Radka im Münchner Literaturhaus ist es im Hollerhaus gelungen den großen Meister der Sprache\, langjährigen Vorsitzenden des PEN Deutschland und philosophischen Feingeist der Literatur zur Lesung seines neuen Romans Radka ins Hollerhaus einzuladen. \nRadka – ein spannender Roman bei dem das soziale Gefüge eines Dorflebens und die aufgeschlossene Besonderheit einer jungen Frau mit großer Raffinesse\, aus unterschiedlichen Sichtweisen beleuchtet\,  bewegend und mitreißend dargestellt wird. \nVoranmeldung erbeten unter 08178/4408 oder info@hollerhaus-irschenhausen.de \nDas Hollerhaus und die Künstler freuen sich auf Ihr Kommen! \n  \nDie phantastische Ausstellung „Collagen und Objekte“ ist noch bis zum 2.März zu sehen. \nÖffnungszeiten: Sa. und So.14-18 Uhr.
URL:https://hollerhaus-irschenhausen.de/event/lesung-radka-mit-johano-strasser-am-21-2-um-20-uhr/
CATEGORIES:Lesung
ATTACH;FMTTYPE=image/jpeg:https://hollerhaus-irschenhausen.de/wp-content/uploads/2025/02/61XQB8eUzvL._SL1000_-e1739619094220.jpg
END:VEVENT
END:VCALENDAR