BEGIN:VCALENDAR
VERSION:2.0
PRODID:-//Hollerhaus Irschenhausen - ECPv6.15.17.1//NONSGML v1.0//EN
CALSCALE:GREGORIAN
METHOD:PUBLISH
X-WR-CALNAME:Hollerhaus Irschenhausen
X-ORIGINAL-URL:https://hollerhaus-irschenhausen.de
X-WR-CALDESC:Veranstaltungen für Hollerhaus Irschenhausen
REFRESH-INTERVAL;VALUE=DURATION:PT1H
X-Robots-Tag:noindex
X-PUBLISHED-TTL:PT1H
BEGIN:VTIMEZONE
TZID:Europe/Berlin
BEGIN:DAYLIGHT
TZOFFSETFROM:+0100
TZOFFSETTO:+0200
TZNAME:CEST
DTSTART:20240331T010000
END:DAYLIGHT
BEGIN:STANDARD
TZOFFSETFROM:+0200
TZOFFSETTO:+0100
TZNAME:CET
DTSTART:20241027T010000
END:STANDARD
BEGIN:DAYLIGHT
TZOFFSETFROM:+0100
TZOFFSETTO:+0200
TZNAME:CEST
DTSTART:20250330T010000
END:DAYLIGHT
BEGIN:STANDARD
TZOFFSETFROM:+0200
TZOFFSETTO:+0100
TZNAME:CET
DTSTART:20251026T010000
END:STANDARD
BEGIN:DAYLIGHT
TZOFFSETFROM:+0100
TZOFFSETTO:+0200
TZNAME:CEST
DTSTART:20260329T010000
END:DAYLIGHT
BEGIN:STANDARD
TZOFFSETFROM:+0200
TZOFFSETTO:+0100
TZNAME:CET
DTSTART:20261025T010000
END:STANDARD
END:VTIMEZONE
BEGIN:VEVENT
DTSTART;TZID=Europe/Berlin:20250329T000000
DTEND;TZID=Europe/Berlin:20250413T235959
DTSTAMP:20260422T191836
CREATED:20250316T091710Z
LAST-MODIFIED:20250316T091833Z
UID:397-1743206400-1744588799@hollerhaus-irschenhausen.de
SUMMARY:Ausstellung DIVERTIMENTI von Silvia Friedrich-Rust
DESCRIPTION:DIVERTIMENTI \nVergnügliche Augenblicke \nvon \nSilvia Friedrich-Rust \n\n\nam Samstag\, den 29. März um 17 Uhr \n\nDie Ickinger Malerin Silvia Friedrich-Rust hat mit DIVERTIMENTI spontane Augenblicke vergnüglicher Gesellschaften ins Hollerhaus gebracht – ebenso wie verzaubernde Natureindrücke und fließende Bewegungen im Tanz. \nSilvia Friedrich-Rusts eigene\, teils impressionistische Malweise öffnet die Augen für die Schönheit des Augenblicks in der Wahrnehmung des Gegenwärtigen! \nDie Ausstellung ist von 29. März bis 13. April zu sehen. \nÖffnungszeiten jeweils Samstag und Sonntag 14 – 18 Uhr sowie nach Vereinbarung (08178/4408).
URL:https://hollerhaus-irschenhausen.de/event/ausstellung-divertimenti-von-silvia-friedrich-rust/
CATEGORIES:Ausstellung,Vernissage
ATTACH;FMTTYPE=image/png:https://hollerhaus-irschenhausen.de/wp-content/uploads/2025/03/HOLLERHAUS-Rust-ausstellung-plakat.png
END:VEVENT
END:VCALENDAR