BEGIN:VCALENDAR
VERSION:2.0
PRODID:-//Hollerhaus Irschenhausen - ECPv6.15.17.1//NONSGML v1.0//EN
CALSCALE:GREGORIAN
METHOD:PUBLISH
X-ORIGINAL-URL:https://hollerhaus-irschenhausen.de
X-WR-CALDESC:Veranstaltungen für Hollerhaus Irschenhausen
REFRESH-INTERVAL;VALUE=DURATION:PT1H
X-Robots-Tag:noindex
X-PUBLISHED-TTL:PT1H
BEGIN:VTIMEZONE
TZID:Europe/Berlin
BEGIN:DAYLIGHT
TZOFFSETFROM:+0100
TZOFFSETTO:+0200
TZNAME:CEST
DTSTART:20240331T010000
END:DAYLIGHT
BEGIN:STANDARD
TZOFFSETFROM:+0200
TZOFFSETTO:+0100
TZNAME:CET
DTSTART:20241027T010000
END:STANDARD
BEGIN:DAYLIGHT
TZOFFSETFROM:+0100
TZOFFSETTO:+0200
TZNAME:CEST
DTSTART:20250330T010000
END:DAYLIGHT
BEGIN:STANDARD
TZOFFSETFROM:+0200
TZOFFSETTO:+0100
TZNAME:CET
DTSTART:20251026T010000
END:STANDARD
BEGIN:DAYLIGHT
TZOFFSETFROM:+0100
TZOFFSETTO:+0200
TZNAME:CEST
DTSTART:20260329T010000
END:DAYLIGHT
BEGIN:STANDARD
TZOFFSETFROM:+0200
TZOFFSETTO:+0100
TZNAME:CET
DTSTART:20261025T010000
END:STANDARD
END:VTIMEZONE
BEGIN:VEVENT
DTSTART;TZID=Europe/Berlin:20251115T170000
DTEND;TZID=Europe/Berlin:20251130T180000
DTSTAMP:20260422T121238
CREATED:20251108T183036Z
LAST-MODIFIED:20251127T114009Z
UID:449-1763226000-1764525600@hollerhaus-irschenhausen.de
SUMMARY:HERAUSRAGEND - IRING DE BRAUW
DESCRIPTION:Herzliche Einladung zur Vernissage \nHERAUSRAGEND \ndes Künstlers\, Malers und Bildhauers \nIRING TEN NOEVER DE BRAUW \n\n\nam Samstag\, den 15. November um 17 Uhr \n\n\n\n\n\n\n\n\n\n\n\n\n\n\n\n\n\n\n\nIring de Brauw\, Träger des Kulturehrenbriefes des Landkreises Bad Tölz-Wolfratshausen und einer der vielseitigsten Künstler zeigt im Hollerhaus HERAUSRAGENDES – \n\n\n\nHerausragendes aus seinem enormen und einzigartigen künstlerischen Wirken – Herausragendes in seinen von afrikanischer Kunst wie eigenen Skulpturen inspirierten außergewöhnlichen Werken! \nDie Ausstellung ist bis zum 30. November zu sehen.\nÖffnungszeiten: Sa. und So. 14-18 Uhr
URL:https://hollerhaus-irschenhausen.de/event/herausragend-iring-de-brauw/
CATEGORIES:Ausstellung,Vernissage
ATTACH;FMTTYPE=image/png:https://hollerhaus-irschenhausen.de/wp-content/uploads/2025/11/Hollerhaus-De-Brauw-Plakat.png
END:VEVENT
BEGIN:VEVENT
DTSTART;TZID=Europe/Berlin:20251116T190000
DTEND;TZID=Europe/Berlin:20251116T190000
DTSTAMP:20260422T121238
CREATED:20251108T183247Z
LAST-MODIFIED:20251108T183315Z
UID:454-1763319600-1763319600@hollerhaus-irschenhausen.de
SUMMARY:Lesung „Die Bauernfürstin“ mit Claus Obalski und der Schäftlarner Stubnmusi
DESCRIPTION:HOLLERHAUS\nIm Rahmen der Ausstellung\nHERAUSRAGEND von IRING DE BRAUW präsentiert das Hollerhaus\ndie musikalische Lesung\n„Die Bauernfürstin und ihre Zeit“\nvorgetragen vom bekannten Schauspieler Claus Obalski musikalisch umrahmt von der Schäftlarner Stubnmusi.\nam Sonntag\, den 16. November um 19 UhrDer Roman „Die Bauernfürstin“ spielt im Isartal und München Anfang 1900 und beschreibt auf spannende und tiefgründige Weise das bäuerliche Leben zu dieser Zeit.\nDer Autor der Bauernfürstin\, Hanns Hunkele\,(geb.1892 in Ebenhausen im Fischerschlössl\, gest. 1957 in Feldafing) war Schauspieler und Regisseur\, bereits 1924 einer der ersten Rundfunkpioniere\, Journalist und Feuilletonist für den Rundfunk in München\, Köln\, Stuttgart\, Zürich\, Innsbruck und Wien. Die Bauernfürstin gehört zu seinen bekanntesten Werken und brachte ihm den Vergleich mit Ludwig Thoma ein. In München-Thalkirchen wurde eine Strasse nach ihm benannt. \n\n\nDer Roman geriet  nach dem Krieg leider in Vergessenheit.  Lia Schneider -Stöckl und ihrer Co-Autorin Annemarie Hartwig ist es jedoch gelungen\, den Roman wieder zu entdecken und in ihrem aktuellen Buch mit vielen Anmerkungen zur Geschichte den Lesern wieder zugänglich zu machen. Freuen Sie sich auf eine spannende Wiederentdeckung! \nWer könnte diesen Roman und seine Zeit besser wiedergeben als der einzigartige Ebenhauser Schauspieler Claus Obalski- musikalisch umrahmt von der wunderbaren Schäftlarner Stubnmusi. \nUm Voranmeldung unter info@hollerhaus-irschenhausen.de wird gebeten. \nDas Hollerhaus und die Künstler freuen sich auf Ihr Kommen!
URL:https://hollerhaus-irschenhausen.de/event/lesung-die-bauernfuerstin-mit-claus-obalski-und-der-schaeftlarner-stubnmusi/
CATEGORIES:Lesung
ATTACH;FMTTYPE=image/png:https://hollerhaus-irschenhausen.de/wp-content/uploads/2025/11/Hollerhaus-Bauernfuerstin-Plakat-Obalski.png
END:VEVENT
END:VCALENDAR