BEGIN:VCALENDAR
VERSION:2.0
PRODID:-//Hollerhaus Irschenhausen - ECPv6.15.17.1//NONSGML v1.0//EN
CALSCALE:GREGORIAN
METHOD:PUBLISH
X-ORIGINAL-URL:https://hollerhaus-irschenhausen.de
X-WR-CALDESC:Veranstaltungen für Hollerhaus Irschenhausen
REFRESH-INTERVAL;VALUE=DURATION:PT1H
X-Robots-Tag:noindex
X-PUBLISHED-TTL:PT1H
BEGIN:VTIMEZONE
TZID:Europe/Berlin
BEGIN:DAYLIGHT
TZOFFSETFROM:+0100
TZOFFSETTO:+0200
TZNAME:CEST
DTSTART:20230326T010000
END:DAYLIGHT
BEGIN:STANDARD
TZOFFSETFROM:+0200
TZOFFSETTO:+0100
TZNAME:CET
DTSTART:20231029T010000
END:STANDARD
BEGIN:DAYLIGHT
TZOFFSETFROM:+0100
TZOFFSETTO:+0200
TZNAME:CEST
DTSTART:20240331T010000
END:DAYLIGHT
BEGIN:STANDARD
TZOFFSETFROM:+0200
TZOFFSETTO:+0100
TZNAME:CET
DTSTART:20241027T010000
END:STANDARD
BEGIN:DAYLIGHT
TZOFFSETFROM:+0100
TZOFFSETTO:+0200
TZNAME:CEST
DTSTART:20250330T010000
END:DAYLIGHT
BEGIN:STANDARD
TZOFFSETFROM:+0200
TZOFFSETTO:+0100
TZNAME:CET
DTSTART:20251026T010000
END:STANDARD
END:VTIMEZONE
BEGIN:VEVENT
DTSTART;TZID=Europe/Berlin:20241109T170000
DTEND;TZID=Europe/Berlin:20241124T000000
DTSTAMP:20260424T192528
CREATED:20241017T193026Z
LAST-MODIFIED:20241017T193026Z
UID:341-1731171600-1732406400@hollerhaus-irschenhausen.de
SUMMARY:Ausstellung: Archaische Welten von Hansjörg Füllgraff
DESCRIPTION:ARCHAISCHE WELTEN \nvon HANSJÖRG FÜLLGRAFF \nVernissage: Samstag\, 9. November um 17 Uhr \nAusstellung: 10. – 24. November 2024 Öffnungszeiten: Sa. u. So. 14-18 Uhr
URL:https://hollerhaus-irschenhausen.de/event/ausstellung-archaische-welten-von-hansjoerg-fuellgraff/
CATEGORIES:Ausstellung
ATTACH;FMTTYPE=image/jpeg:https://hollerhaus-irschenhausen.de/wp-content/uploads/2024/10/Fuellgraff-Plakat-v2.jpg
END:VEVENT
BEGIN:VEVENT
DTSTART;TZID=Europe/Berlin:20241123T200000
DTEND;TZID=Europe/Berlin:20241123T200000
DTSTAMP:20260424T192528
CREATED:20241023T164947Z
LAST-MODIFIED:20241023T165214Z
UID:355-1732392000-1732392000@hollerhaus-irschenhausen.de
SUMMARY:Lisa Wahlandt Trio
DESCRIPTION:LISA WAHLANDT TRIO\nAROUND THE WORLD IN A NIGHT \n \nLisa Wahlandt – Gesang \n     Andrea Hermenau – Piano\, Sven Faller – Bass \n \nJazz – Pop –  Bossa Nova  \nSamstag\, 23. November\, 20 Uhr  \nTel. Voranmeldung unter 08178/4408  \nHollerhaus Irschenhausen\, Neufahrner Weg 3 | Tel: 08178/4408; \nwww.hollerhaus-irschenhausen.de
URL:https://hollerhaus-irschenhausen.de/event/lisa-wahlandt-trio/
CATEGORIES:Konzert
ATTACH;FMTTYPE=image/jpeg:https://hollerhaus-irschenhausen.de/wp-content/uploads/2024/10/Lisa-Wahlandt-Plakat-v4-scaled-e1731349092306.jpg
END:VEVENT
BEGIN:VEVENT
DTSTART;TZID=Europe/Berlin:20241129T200000
DTEND;TZID=Europe/Berlin:20241129T200000
DTSTAMP:20260424T192528
CREATED:20241111T180019Z
LAST-MODIFIED:20241127T175751Z
UID:362-1732910400-1732910400@hollerhaus-irschenhausen.de
SUMMARY:Entfällt krankheitsbedingt - MARION & SOBO BAND
DESCRIPTION:LEIDER ENTFÄLLT DAS KONZERT KRANKHEITSBEDINGT\n  \n  \n\n\nMARION & SOBO BAND\nglobal music & acoustic jazz„Gomera“ – New Album Tour \nDie MARION & SOBO BAND hat eine Wagenladung neue Songs dabei! Die deutsch-französisch-polnische Bandkreiert ihren eigenen Stil aus Globaler Musik und vokalem Jazz und beweist\, dass handgemachte\, akustische Musiknicht nur filigran\, kontemplativ und farbenreich sein kann\, sondern selbst ohne Schlagzeug auch hochenergetischund wuchtig. Die multilinguale französische Sängerin Marion Lenfant-Preus und der polnische Gitarrist Alexander„Sobo“ Sobocinski\, folgen seit über 13 Jahren gemeinsam die Idee\, Musik ohne Schubladen und für eingenerations- und kulturübergreifendes Publikum zu kreieren. Und das tun sie mit viel Charme\, Leichtigkeit undSpielfreude! Die vielgereisten Musiker und ihre Band präsentieren nun ihr drittes Studio Album: „Gomera“\, derlandschaftlich wie kulturell so vielfältigen Kanaren-Insel gewidmet\, auf der die beiden viele Winter verbracht undviele Song-Ideen gesammelt haben. MARION & SOBO BAND klingt stilistisch bunt mit Gypsy Jazz und auch Rumba\,Balkan- und Chansonklängen\, akrobatischen Soli und Scat-Gesang\, eigenen Kompositionen und auch neuenInterpretationen von alten Klassikern „ins Hier und Jetzt transformiert“ (Jazzpodium)\, teilweise auch mit eigenenTexten von Marion. „Marion & Sobo Band sind wirklich eine Gruppe leidenschaftlicher Musiker\, die man eigentlichlive goutieren sollte\, denn dass da blitzschnell der Funke überspringt ist sicher“ (SWR2). \nBIOGRAPHIE \nDas Herz der Bonner Band sind die mehrsprachige franko-amerikanische Sängerin Marion Lenfant-Preus und der polnische Gitarrist Alexander Sobocinski\, genannt Sobo. Er stammt aus Polen\, sie stammt aus Frankreich (in einer bilingualen Familie: die Mutter ist Französin und der Vater US-Amerikaner). Marion & Sobo\, die zwei vielgereisten Musiker\, lernten sich in 2010 auf einer Jazz-Session in Bonn kennen und seitdem folgen sie gemeinsam mit ihrer Band der Idee\, Musik über Schubladen hinweg zu kreieren. \nWEB: www.marionandsobo.com \nFacebook: @marionandsobo www.facebook.com/marionandsobo \nInstagram: @marionandsoboband www.instagram.com/marionandsoboband \nPRESSESTIMMEN  \nzum Programm „gomera“ 2024SWR (Babette Michel\, Jazz global – Magische Stimmen)„Die Töne kommen wie Perlen aus dem Mund von Marion Lenfant-Preus\, ihre Musik mit der Marion & Sobo Band swingt\, erzählt von Gebieten fernab ausgetretener Pfade.“ „Gomera“ Album der Woche bei WDR3Jazzthethik„Musik\, die im knapp hundert Jahre alten Jazz Manouche wurzelt\, ihn aber mit neuen Einflüssen verändert undauffrischt.“ FAZ„Den Sound von Django Reinhardt ins 21. Jahrhundert zu holen\, das gelingt die Marion & Sobo Band auf deren
URL:https://hollerhaus-irschenhausen.de/event/marion-sobo-band/
CATEGORIES:Konzert
ATTACH;FMTTYPE=image/jpeg:https://hollerhaus-irschenhausen.de/wp-content/uploads/2024/11/Marion-Sobo-Band-Plakat-v2-scaled-e1731349036185.jpg
END:VEVENT
END:VCALENDAR