BEGIN:VCALENDAR
VERSION:2.0
PRODID:-//Hollerhaus Irschenhausen - ECPv6.15.17.1//NONSGML v1.0//EN
CALSCALE:GREGORIAN
METHOD:PUBLISH
X-WR-CALNAME:Hollerhaus Irschenhausen
X-ORIGINAL-URL:https://hollerhaus-irschenhausen.de
X-WR-CALDESC:Veranstaltungen für Hollerhaus Irschenhausen
REFRESH-INTERVAL;VALUE=DURATION:PT1H
X-Robots-Tag:noindex
X-PUBLISHED-TTL:PT1H
BEGIN:VTIMEZONE
TZID:Europe/Berlin
BEGIN:DAYLIGHT
TZOFFSETFROM:+0100
TZOFFSETTO:+0200
TZNAME:CEST
DTSTART:20230326T010000
END:DAYLIGHT
BEGIN:STANDARD
TZOFFSETFROM:+0200
TZOFFSETTO:+0100
TZNAME:CET
DTSTART:20231029T010000
END:STANDARD
BEGIN:DAYLIGHT
TZOFFSETFROM:+0100
TZOFFSETTO:+0200
TZNAME:CEST
DTSTART:20240331T010000
END:DAYLIGHT
BEGIN:STANDARD
TZOFFSETFROM:+0200
TZOFFSETTO:+0100
TZNAME:CET
DTSTART:20241027T010000
END:STANDARD
BEGIN:DAYLIGHT
TZOFFSETFROM:+0100
TZOFFSETTO:+0200
TZNAME:CEST
DTSTART:20250330T010000
END:DAYLIGHT
BEGIN:STANDARD
TZOFFSETFROM:+0200
TZOFFSETTO:+0100
TZNAME:CET
DTSTART:20251026T010000
END:STANDARD
END:VTIMEZONE
BEGIN:VEVENT
DTSTART;TZID=Europe/Berlin:20241207T160000
DTEND;TZID=Europe/Berlin:20241222T180000
DTSTAMP:20260424T174252
CREATED:20241130T202315Z
LAST-MODIFIED:20241130T202458Z
UID:374-1733587200-1734890400@hollerhaus-irschenhausen.de
SUMMARY:Ägyptische Träume zur Weihnachtszeit
DESCRIPTION:Ägyptische Träume zur Weihnachtszeit\nKunst und Schmuck im Dialog\nSabine Kirchoff & AELEILA \n\n\n\n\nVernissage: Samstag 7. Dezember 16 Uhr \n  \nAustellung: 8. – 22. Dezember 2024 \nÖffnungszeiten: Sa. u. So. 14-18 Uhr \nHollerhaus Irschenhausen\, Neufahrnerweg 3\, Tel.: 08178/4408 \nwww.hollerhaus-irschenhausen.de
URL:https://hollerhaus-irschenhausen.de/event/aegyptische-traeume-zur-weihnachtszeit/
CATEGORIES:Ausstellung,Vernissage
ATTACH;FMTTYPE=image/jpeg:https://hollerhaus-irschenhausen.de/wp-content/uploads/2024/11/Hollerhaus-Plakat-Kirchhoff-Aeleila.jpg
END:VEVENT
END:VCALENDAR