BEGIN:VCALENDAR
VERSION:2.0
PRODID:-//Hollerhaus Irschenhausen - ECPv6.15.17.1//NONSGML v1.0//EN
CALSCALE:GREGORIAN
METHOD:PUBLISH
X-WR-CALNAME:Hollerhaus Irschenhausen
X-ORIGINAL-URL:https://hollerhaus-irschenhausen.de
X-WR-CALDESC:Veranstaltungen für Hollerhaus Irschenhausen
REFRESH-INTERVAL;VALUE=DURATION:PT1H
X-Robots-Tag:noindex
X-PUBLISHED-TTL:PT1H
BEGIN:VTIMEZONE
TZID:Europe/Berlin
BEGIN:DAYLIGHT
TZOFFSETFROM:+0100
TZOFFSETTO:+0200
TZNAME:CEST
DTSTART:20240331T010000
END:DAYLIGHT
BEGIN:STANDARD
TZOFFSETFROM:+0200
TZOFFSETTO:+0100
TZNAME:CET
DTSTART:20241027T010000
END:STANDARD
BEGIN:DAYLIGHT
TZOFFSETFROM:+0100
TZOFFSETTO:+0200
TZNAME:CEST
DTSTART:20250330T010000
END:DAYLIGHT
BEGIN:STANDARD
TZOFFSETFROM:+0200
TZOFFSETTO:+0100
TZNAME:CET
DTSTART:20251026T010000
END:STANDARD
BEGIN:DAYLIGHT
TZOFFSETFROM:+0100
TZOFFSETTO:+0200
TZNAME:CEST
DTSTART:20260329T010000
END:DAYLIGHT
BEGIN:STANDARD
TZOFFSETFROM:+0200
TZOFFSETTO:+0100
TZNAME:CET
DTSTART:20261025T010000
END:STANDARD
END:VTIMEZONE
BEGIN:VEVENT
DTSTART;TZID=Europe/Berlin:20251011T170000
DTEND;TZID=Europe/Berlin:20251026T170000
DTSTAMP:20260420T083303
CREATED:20250913T092025Z
LAST-MODIFIED:20250913T092118Z
UID:431-1760202000-1761498000@hollerhaus-irschenhausen.de
SUMMARY:Ausstellung: Christine Kolbinger
DESCRIPTION:
URL:https://hollerhaus-irschenhausen.de/event/ausstellung-christine-kolbinger/
CATEGORIES:Ausstellung
ATTACH;FMTTYPE=image/png:https://hollerhaus-irschenhausen.de/wp-content/uploads/2025/09/Kolbinger-Plakat-e1757755266848.png
END:VEVENT
BEGIN:VEVENT
DTSTART;TZID=Europe/Berlin:20251012T190000
DTEND;TZID=Europe/Berlin:20251012T190000
DTSTAMP:20260420T083303
CREATED:20250927T102245Z
LAST-MODIFIED:20250927T102320Z
UID:438-1760295600-1760295600@hollerhaus-irschenhausen.de
SUMMARY:Musikalische Lesung mit Josef Brustmann
DESCRIPTION:Im Rahmen der Ausstellung \nFREIHEIT DER FARBE von CHRISTINE KOLBINGER \npräsentiert das Hollerhaus \nJOSEF BRUSTMANN \nmit seinem Bestseller-Buch „Jeder ist wer“ sowie erste\, höchst interessante  Einblicke in sein neues literarisches Werk verbunden mit seiner einzigartigen Zither- und Gitarrenmusik \nam Sonntag\, den 12.Oktober um 19 Uhr. \nJosef Brustmann ist begnadeter Kabarettist – er wurde bereits 2015 mit dem Deutschen Kabarettpreis ausgezeichnet – ebenso wie phantastischer Musiker (Bairisch Diatonischer Jodelwahnsinn\, Monaco Bagage\, Brustmann-Schäfer-Horn) und Autor. \nSein Buch „Jeder ist wer“\, für das er 2024 den Bayerischen Poetenthaler und heuer den Ernst-Hoferichter-Preis erhielt\, wird hochgelobt – so schreibt beispielsweise die SZ: \n „Ein grandioses\, eigenwilliges Zeitportrait\, ein Soundtrack von ferner Vergangenheit (Oliver Hochkeppel)“. \nIm Hollerhaus vereint Josef Brustmann sein unvergleichliches künstlerisches Können zu einem literarisch\, kabarettistisch und musikalischem Highlight!
URL:https://hollerhaus-irschenhausen.de/event/musikalische-lesung-mit-josef-brustmann/
CATEGORIES:Lesung
ATTACH;FMTTYPE=image/png:https://hollerhaus-irschenhausen.de/wp-content/uploads/2025/09/Brustmann-Plakat-2.png
END:VEVENT
BEGIN:VEVENT
DTSTART;TZID=Europe/Berlin:20251018T200000
DTEND;TZID=Europe/Berlin:20251018T200000
DTSTAMP:20260420T083303
CREATED:20251012T185539Z
LAST-MODIFIED:20251012T185637Z
UID:443-1760817600-1760817600@hollerhaus-irschenhausen.de
SUMMARY:Fiesta Flamenca mit Montserrat Suarez
DESCRIPTION:„Fiesta Flamenca“\nEin Fest des Flamenco – ein Fest mit Gypsy-Music \nTanz\, Musik\, Gesang \nLeidenschaft – Feuer- Temperament \nmit Montserrat Suarez (Tanz)\nMiguel Sotelo\, José Farinas und Raul Seradilla\n(Gitarre\, Gesang\, Percussion) \n\n\n\n\n\n\nam Samstag\, 18. Oktober 2025 um 20 Uhr \n\n\n\n\n\n\n\n\n\n\n\n\n\n\n\n\n\n\n\n\n\n\n\n\n\n\n\n\n\n\n\n\n\n\n\n\n\n\n\n\n\n\n\n\n\n\n\n\n\n\n\n\n\n\n\n\nMontserrat Suarez gehört zu den weltbesten Flamencotänzerinnen und wird wegen ihres unvergleichlich einfühlsamen und gleichzeitig temperamentvollen Tanzes respektvoll „Terremoto – Erdbeben“ genannt. \nZusammen mit den Gitarristen Miguel Sotelo und Jose Farinas sowie dem Percussionisten Raul Seradilla präsentiert sie im Hollerhaus die schönsten und ausdruckvollsten Tänze des Flamenco. Miguel Sotelo mit Wurzeln aus Huelva\, José Farinas (Sevilla) und Raul Seradilla (Extremadura) sind mit ihrer impulsiven wie einfühlsamen Flamenco-Gitarre und Flamenco-Musik in Spanien wie ganz Europa gefragt. Jetzt kommen sie für ein Gastspiel ins Hollerhaus! \nAn diesem besonderen Abend wird Flamenco in seiner schönstenTradition verbunden mit den Elementen des legendären Gypsy zu sehen und zu hören sein! \n  \nAnmeldung erbeten unter:\ninfo@hollerhaus-irschenhausen.de
URL:https://hollerhaus-irschenhausen.de/event/fiesta-flamenca-mit-montserrat-suarez/
CATEGORIES:Konzert
ATTACH;FMTTYPE=image/jpeg:https://hollerhaus-irschenhausen.de/wp-content/uploads/2025/10/image001-4-scaled.jpg
END:VEVENT
BEGIN:VEVENT
DTSTART;TZID=Europe/Berlin:20251026T190000
DTEND;TZID=Europe/Berlin:20251026T190000
DTSTAMP:20260420T083303
CREATED:20250913T092532Z
LAST-MODIFIED:20250913T092557Z
UID:434-1761505200-1761505200@hollerhaus-irschenhausen.de
SUMMARY:Marion & Sobo Band
DESCRIPTION:
URL:https://hollerhaus-irschenhausen.de/event/marion-sobo-band-2/
CATEGORIES:Konzert
ATTACH;FMTTYPE=image/png:https://hollerhaus-irschenhausen.de/wp-content/uploads/2025/09/Marion-Sobo-Band-Plakat-2025-v1.png
END:VEVENT
END:VCALENDAR