BEGIN:VCALENDAR
VERSION:2.0
PRODID:-//Hollerhaus Irschenhausen - ECPv6.15.17.1//NONSGML v1.0//EN
CALSCALE:GREGORIAN
METHOD:PUBLISH
X-ORIGINAL-URL:https://hollerhaus-irschenhausen.de
X-WR-CALDESC:Veranstaltungen für Hollerhaus Irschenhausen
REFRESH-INTERVAL;VALUE=DURATION:PT1H
X-Robots-Tag:noindex
X-PUBLISHED-TTL:PT1H
BEGIN:VTIMEZONE
TZID:Europe/Berlin
BEGIN:DAYLIGHT
TZOFFSETFROM:+0100
TZOFFSETTO:+0200
TZNAME:CEST
DTSTART:20240331T010000
END:DAYLIGHT
BEGIN:STANDARD
TZOFFSETFROM:+0200
TZOFFSETTO:+0100
TZNAME:CET
DTSTART:20241027T010000
END:STANDARD
BEGIN:DAYLIGHT
TZOFFSETFROM:+0100
TZOFFSETTO:+0200
TZNAME:CEST
DTSTART:20250330T010000
END:DAYLIGHT
BEGIN:STANDARD
TZOFFSETFROM:+0200
TZOFFSETTO:+0100
TZNAME:CET
DTSTART:20251026T010000
END:STANDARD
BEGIN:DAYLIGHT
TZOFFSETFROM:+0100
TZOFFSETTO:+0200
TZNAME:CEST
DTSTART:20260329T010000
END:DAYLIGHT
BEGIN:STANDARD
TZOFFSETFROM:+0200
TZOFFSETTO:+0100
TZNAME:CET
DTSTART:20261025T010000
END:STANDARD
END:VTIMEZONE
BEGIN:VEVENT
DTSTART;TZID=Europe/Berlin:20251207T160000
DTEND;TZID=Europe/Berlin:20251221T170000
DTSTAMP:20260420T050812
CREATED:20251201T190910Z
LAST-MODIFIED:20251201T191029Z
UID:466-1765123200-1766336400@hollerhaus-irschenhausen.de
SUMMARY:Ausstellung: Goldzauber
DESCRIPTION:Herzliche Einladung zur Vernissage \nGOLDZAUBER \nKunst und Schmuck \nHELGA KALLWEIT und AElEILA \nLaura-Maria Stöckl & Sonia Bönisch \nam Sonntag\, 7.Dezember um 16 Uhr \nFaszinierende Schmuckstücke von AELEILA von großer Eleganz und inspiriert vom Zauber des Orients und die phantastischen Gemälde der Künstlerin Helga Kallweit mit zartem Gold auf pastellfarbenem Weiß verzaubern das Hollerhaus zur Weihnachtszeit. \nDie Ausstellung ist bis 21.12.2025 zu sehen. \nÖffnungszeiten: Sa. und So. von 14-18 Uhr sowie nach persönlicher Vereinbarung 08178/4408.
URL:https://hollerhaus-irschenhausen.de/event/ausstellung-goldzauber/
CATEGORIES:Ausstellung
ATTACH;FMTTYPE=image/jpeg:https://hollerhaus-irschenhausen.de/wp-content/uploads/2025/12/Goldzauber-plakat-scaled-e1764616200391.jpg
END:VEVENT
BEGIN:VEVENT
DTSTART;TZID=Europe/Berlin:20251212T200000
DTEND;TZID=Europe/Berlin:20251212T200000
DTSTAMP:20260420T050812
CREATED:20251127T113849Z
LAST-MODIFIED:20251127T113911Z
UID:462-1765569600-1765569600@hollerhaus-irschenhausen.de
SUMMARY:GYPSI LUNA TRIO
DESCRIPTION:GYPSI LUNA TRIO \nPhilippe Loli\, \nJean-Marc Scheit & Richard Scheit \nGipsy Music – Samba – Rumba \nam Freitag\, 12. 12. um 20 Uhr \nUm Voranmeldung wird gebeten \nunter info@hollerhaus-irschenhausen.de oder 08178/4408
URL:https://hollerhaus-irschenhausen.de/event/gypsi-luna-trio/
CATEGORIES:Konzert
ATTACH;FMTTYPE=image/png:https://hollerhaus-irschenhausen.de/wp-content/uploads/2025/11/Plakat-Hollerhaus-Loli.png
END:VEVENT
END:VCALENDAR